BEGIN:VCALENDAR
VERSION:2.0
PRODID:-//Holland Sport AC - ECPv6.15.17.1//NONSGML v1.0//EN
CALSCALE:GREGORIAN
METHOD:PUBLISH
X-ORIGINAL-URL:https://hollandsportsac.org.uk
X-WR-CALDESC:Events for Holland Sport AC
REFRESH-INTERVAL;VALUE=DURATION:PT1H
X-Robots-Tag:noindex
X-PUBLISHED-TTL:PT1H
BEGIN:VTIMEZONE
TZID:UTC
BEGIN:STANDARD
TZOFFSETFROM:+0000
TZOFFSETTO:+0000
TZNAME:UTC
DTSTART:20240101T000000
END:STANDARD
END:VTIMEZONE
BEGIN:VEVENT
DTSTART;VALUE=DATE:20251115
DTEND;VALUE=DATE:20251116
DTSTAMP:20260422T182525
CREATED:20250807T212746Z
LAST-MODIFIED:20251021T075946Z
UID:2892-1763164800-1763251199@hollandsportsac.org.uk
SUMMARY:Surrey League Cross-Country Division 1 Fixture #2
DESCRIPTION:Venue: Beckenham Place Park \nU13\, U15\, U17 Boys & Girls and Senior Men + Women.
URL:https://hollandsportsac.org.uk/event/surrey-league-cross-country-2/
LOCATION:beckenham park\, BR3 1SY\, United Kingdom
CATEGORIES:Cross Country,Juniors,Seniors
ATTACH;FMTTYPE=image/png:https://hollandsportsac.org.uk/wp-content/uploads/2025/08/Untitled.png
END:VEVENT
BEGIN:VEVENT
DTSTART;TZID=UTC:20251128T190000
DTEND;TZID=UTC:20251128T190000
DTSTAMP:20260422T182525
CREATED:20251021T082529Z
LAST-MODIFIED:20251021T082943Z
UID:3328-1764356400-1764356400@hollandsportsac.org.uk
SUMMARY:Friday Night Under the Lights: 5k
DESCRIPTION:Venue: Battersea Park \nSenior Men + Women.
URL:https://hollandsportsac.org.uk/event/friday-night-under-the-lights-5k/
LOCATION:Battersea
CATEGORIES:Seniors
ATTACH;FMTTYPE=image/jpeg:https://hollandsportsac.org.uk/wp-content/uploads/2025/10/img_3_1759920529411.jpg
END:VEVENT
BEGIN:VEVENT
DTSTART;TZID=UTC:20251130T080000
DTEND;TZID=UTC:20251130T130000
DTSTAMP:20260422T182525
CREATED:20251021T082157Z
LAST-MODIFIED:20251021T082317Z
UID:3326-1764489600-1764507600@hollandsportsac.org.uk
SUMMARY:British Masters 5k Championships
DESCRIPTION:Venue: Battersea Park \nMen and Women 35+ years in age.
URL:https://hollandsportsac.org.uk/event/british-masters-5k-championships/
LOCATION:Battersea
CATEGORIES:Masters,Seniors
ATTACH;FMTTYPE=image/jpeg:https://hollandsportsac.org.uk/wp-content/uploads/2025/07/IMG-20250914-WA01261-scaled.jpg
END:VEVENT
BEGIN:VEVENT
DTSTART;TZID=UTC:20251130T110000
DTEND;TZID=UTC:20251130T130000
DTSTAMP:20260422T182525
CREATED:20251104T122723Z
LAST-MODIFIED:20251112T110317Z
UID:3550-1764500400-1764507600@hollandsportsac.org.uk
SUMMARY:Downs Junior cross-country League
DESCRIPTION:
URL:https://hollandsportsac.org.uk/event/downs-junior-cross-country-league/
CATEGORIES:Cross Country,Juniors
ATTACH;FMTTYPE=image/jpeg:https://hollandsportsac.org.uk/wp-content/uploads/2025/10/IMG_1776.jpg
END:VEVENT
END:VCALENDAR