BEGIN:VCALENDAR
VERSION:2.0
PRODID:-//Holland Sport AC - ECPv6.15.17.1//NONSGML v1.0//EN
CALSCALE:GREGORIAN
METHOD:PUBLISH
X-ORIGINAL-URL:https://hollandsportsac.org.uk
X-WR-CALDESC:Events for Holland Sport AC
REFRESH-INTERVAL;VALUE=DURATION:PT1H
X-Robots-Tag:noindex
X-PUBLISHED-TTL:PT1H
BEGIN:VTIMEZONE
TZID:UTC
BEGIN:STANDARD
TZOFFSETFROM:+0000
TZOFFSETTO:+0000
TZNAME:UTC
DTSTART:20240101T000000
END:STANDARD
END:VTIMEZONE
BEGIN:VEVENT
DTSTART;VALUE=DATE:20250813
DTEND;VALUE=DATE:20250814
DTSTAMP:20260422T223319
CREATED:20250708T110439Z
LAST-MODIFIED:20250717T150055Z
UID:2713-1755043200-1755129599@hollandsportsac.org.uk
SUMMARY:Rosenheim League - Under 17 Final
DESCRIPTION:
URL:https://hollandsportsac.org.uk/event/rosenheim-league-under-17-final/
LOCATION:Kingston\, KT1 3PB
CATEGORIES:365,Cross Country,Jumps,Seniors,Sprints,Throws
ATTACH;FMTTYPE=image/jpeg:https://hollandsportsac.org.uk/wp-content/uploads/2025/05/9a53ec63-2e23-4f30-915d-82cae553451e.jpg
END:VEVENT
BEGIN:VEVENT
DTSTART;VALUE=DATE:20250823
DTEND;VALUE=DATE:20250824
DTSTAMP:20260422T223319
CREATED:20250708T101043Z
LAST-MODIFIED:20250717T145842Z
UID:2668-1755907200-1755993599@hollandsportsac.org.uk
SUMMARY:Girls Only - Under 11 to Under 17
DESCRIPTION:
URL:https://hollandsportsac.org.uk/event/girls-only-under-11-to-under-17-4/
LOCATION:Sutton
CATEGORIES:365,Cross Country,Jumps,Seniors,Sprints,Throws
ATTACH;FMTTYPE=image/jpeg:https://hollandsportsac.org.uk/wp-content/uploads/2025/05/b0d8abf0-5764-4e37-b337-64d07398ef05.jpg
END:VEVENT
BEGIN:VEVENT
DTSTART;VALUE=DATE:20250830
DTEND;VALUE=DATE:20250831
DTSTAMP:20260422T223319
CREATED:20250708T103827Z
LAST-MODIFIED:20250717T145908Z
UID:2703-1756512000-1756598399@hollandsportsac.org.uk
SUMMARY:Southern Athletics league - Under 17
DESCRIPTION:
URL:https://hollandsportsac.org.uk/event/southern-athletics-league-under-17-4/
LOCATION:Dartford
CATEGORIES:365,Cross Country,Jumps,Seniors,Sprints,Throws
ATTACH;FMTTYPE=image/jpeg:https://hollandsportsac.org.uk/wp-content/uploads/2025/05/82466500-873f-4c5a-82ae-1da4bd85217f.jpg
END:VEVENT
END:VCALENDAR