BEGIN:VCALENDAR
VERSION:2.0
PRODID:-//Holland Sport AC - ECPv6.15.17.1//NONSGML v1.0//EN
CALSCALE:GREGORIAN
METHOD:PUBLISH
X-ORIGINAL-URL:https://hollandsportsac.org.uk
X-WR-CALDESC:Events for Holland Sport AC
REFRESH-INTERVAL;VALUE=DURATION:PT1H
X-Robots-Tag:noindex
X-PUBLISHED-TTL:PT1H
BEGIN:VTIMEZONE
TZID:UTC
BEGIN:STANDARD
TZOFFSETFROM:+0000
TZOFFSETTO:+0000
TZNAME:UTC
DTSTART:20250101T000000
END:STANDARD
END:VTIMEZONE
BEGIN:VEVENT
DTSTART;VALUE=DATE:20260808
DTEND;VALUE=DATE:20260809
DTSTAMP:20260422T225803
CREATED:20260306T112023Z
LAST-MODIFIED:20260306T113013Z
UID:4896-1786147200-1786233599@hollandsportsac.org.uk
SUMMARY:Southern Athletics League: Fixture #4
DESCRIPTION:Southern Athletics League: Track and Field Fixtures for Under 18 (School years 12 + 13) and Senior / Masters athletes\nFixture venues are listed here. Event timings on the day are listed here. We are aiming to get a good number of athletes out for the Southern Athletics League this year. These fairly low-key\, positive and supportive events\, offer any athlete the chance to participate\, take-part and enjoy athletics with other like-minded people: they are great way to spend a Saturday or Sunday afternoon. No charge for participation.
URL:https://hollandsportsac.org.uk/event/southern-athletics-league-fixture-4/
LOCATION:Tooting
CATEGORIES:Jumps,Middle Distance,Seniors,Sprints,Throws
ATTACH;FMTTYPE=image/png:https://hollandsportsac.org.uk/wp-content/uploads/2026/03/Screenshot-2026-03-06-11.25.30.png
END:VEVENT
BEGIN:VEVENT
DTSTART;VALUE=DATE:20260816
DTEND;VALUE=DATE:20260817
DTSTAMP:20260422T225803
CREATED:20260306T102009Z
LAST-MODIFIED:20260306T104903Z
UID:4881-1786838400-1786924799@hollandsportsac.org.uk
SUMMARY:Ebbisham League Fixture #3: Venue tbc
DESCRIPTION:The Ebbisham League consists of three fixtures from April to July\, and is open to all boys in the Under 12\, (School years 6 + 7)\, Under 14 (School years 8 + 9)\, Under 16 (School years 10 + 11) and Under 18 (School years 12 + 13) age groups.  Athletes can compete in 3 events at each fixture as well as a relay.  There are plenty of non-scoring opportunities for boys across each age group.\n​\n​We are unable to supervise the athletes in attendance so parental help is needed. Coaches will be in the track and ‘in the field’ supporting athletes. \nAs part of our entry into this league the club needs to supply adults to help run events.  Parents/Guardians are needed to support; no experience is necessary. Without adult support\, Holland Sports’ coaches have to step in which means they cannot spend the time required with your child at the event.  The more adult support we have\, the more points we gain for the club!
URL:https://hollandsportsac.org.uk/event/ebbisham-league-fixture-3-venue-tbc/
CATEGORIES:Jumps,Juniors,Middle Distance,Sprints,Throws
END:VEVENT
END:VCALENDAR