BEGIN:VCALENDAR
VERSION:2.0
PRODID:-//Holland Sport AC - ECPv6.15.17.1//NONSGML v1.0//EN
CALSCALE:GREGORIAN
METHOD:PUBLISH
X-ORIGINAL-URL:https://hollandsportsac.org.uk
X-WR-CALDESC:Events for Holland Sport AC
REFRESH-INTERVAL;VALUE=DURATION:PT1H
X-Robots-Tag:noindex
X-PUBLISHED-TTL:PT1H
BEGIN:VTIMEZONE
TZID:UTC
BEGIN:STANDARD
TZOFFSETFROM:+0000
TZOFFSETTO:+0000
TZNAME:UTC
DTSTART:20250101T000000
END:STANDARD
END:VTIMEZONE
BEGIN:VEVENT
DTSTART;VALUE=DATE:20260718
DTEND;VALUE=DATE:20260719
DTSTAMP:20260421T114355
CREATED:20260306T104652Z
LAST-MODIFIED:20260306T104652Z
UID:4892-1784332800-1784419199@hollandsportsac.org.uk
SUMMARY:Youth Development League Fixture #3
DESCRIPTION:Youth Development League: Summer Athletics Fixtures for both Under 14 and Under 16 Boys and Girls\n\nTimetables and race/event start times for all events listed here.\n\nFixture lists and venues listed here.\n\nHigh quality events for Under 14 (School Years 8 + 9) and Under 16 (School Years 10 + 11) Boys and Girls.
URL:https://hollandsportsac.org.uk/event/youth-development-league-fixture-3/
LOCATION:Kingston\, KT1 3PB
CATEGORIES:Jumps,Juniors,Middle Distance,Sprints,Throws
ATTACH;FMTTYPE=image/png:https://hollandsportsac.org.uk/wp-content/uploads/2026/03/Screenshot-2026-03-06-10.42.38.png
END:VEVENT
BEGIN:VEVENT
DTSTART;VALUE=DATE:20260719
DTEND;VALUE=DATE:20260720
DTSTAMP:20260421T114355
CREATED:20260306T112931Z
LAST-MODIFIED:20260306T112931Z
UID:4906-1784419200-1784505599@hollandsportsac.org.uk
SUMMARY:Southern Athletics League: Fixture #3
DESCRIPTION:Southern Athletics League: Track and Field Fixtures for Under 18 (School years 12 + 13) and Senior / Masters athletes\nFixture venues are listed here. Event timings on the day are listed here. We are aiming to get a good number of athletes out for the Southern Athletics League this year. These fairly low-key\, positive and supportive events\, offer any athlete the chance to participate\, take-part and enjoy athletics with other like-minded people: they are great way to spend a Saturday or Sunday afternoon. No charge for participation.
URL:https://hollandsportsac.org.uk/event/southern-athletics-league-fixture-3/
LOCATION:Carshalton\, SM5 1SL
CATEGORIES:Jumps,Middle Distance,Seniors,Sprints,Throws
ATTACH;FMTTYPE=image/png:https://hollandsportsac.org.uk/wp-content/uploads/2026/03/Screenshot-2026-03-06-11.25.30.png
END:VEVENT
END:VCALENDAR