BEGIN:VCALENDAR
VERSION:2.0
PRODID:-//Holland Sport AC - ECPv6.15.17.1//NONSGML v1.0//EN
CALSCALE:GREGORIAN
METHOD:PUBLISH
X-WR-CALNAME:Holland Sport AC
X-ORIGINAL-URL:https://hollandsportsac.org.uk
X-WR-CALDESC:Events for Holland Sport AC
REFRESH-INTERVAL;VALUE=DURATION:PT1H
X-Robots-Tag:noindex
X-PUBLISHED-TTL:PT1H
BEGIN:VTIMEZONE
TZID:UTC
BEGIN:STANDARD
TZOFFSETFROM:+0000
TZOFFSETTO:+0000
TZNAME:UTC
DTSTART:20250101T000000
END:STANDARD
END:VTIMEZONE
BEGIN:VEVENT
DTSTART;TZID=UTC:20260123T183000
DTEND;TZID=UTC:20260123T203000
DTSTAMP:20260422T111157
CREATED:20251219T133746Z
LAST-MODIFIED:20260120T163017Z
UID:4107-1769193000-1769200200@hollandsportsac.org.uk
SUMMARY:Sportshall Athletics for all Under 11s\, Under 13s and Under 15s @ Hazelwood School
DESCRIPTION:
URL:https://hollandsportsac.org.uk/event/sportshall-athletics-for-all-under-11s-under-13s-and-under-15s-hazlewood-school/
CATEGORIES:Juniors
ATTACH;FMTTYPE=image/jpeg:https://hollandsportsac.org.uk/wp-content/uploads/2025/12/Screenshot_20251219_133301_Google.jpg
END:VEVENT
END:VCALENDAR