BEGIN:VCALENDAR
VERSION:2.0
PRODID:-//Holland Sport AC - ECPv6.15.17.1//NONSGML v1.0//EN
CALSCALE:GREGORIAN
METHOD:PUBLISH
X-WR-CALNAME:Holland Sport AC
X-ORIGINAL-URL:https://hollandsportsac.org.uk
X-WR-CALDESC:Events for Holland Sport AC
REFRESH-INTERVAL;VALUE=DURATION:PT1H
X-Robots-Tag:noindex
X-PUBLISHED-TTL:PT1H
BEGIN:VTIMEZONE
TZID:UTC
BEGIN:STANDARD
TZOFFSETFROM:+0000
TZOFFSETTO:+0000
TZNAME:UTC
DTSTART:20240101T000000
END:STANDARD
END:VTIMEZONE
BEGIN:VEVENT
DTSTART;VALUE=DATE:20251115
DTEND;VALUE=DATE:20251116
DTSTAMP:20260422T194748
CREATED:20250807T212746Z
LAST-MODIFIED:20251021T075946Z
UID:2892-1763164800-1763251199@hollandsportsac.org.uk
SUMMARY:Surrey League Cross-Country Division 1 Fixture #2
DESCRIPTION:Venue: Beckenham Place Park \nU13\, U15\, U17 Boys & Girls and Senior Men + Women.
URL:https://hollandsportsac.org.uk/event/surrey-league-cross-country-2/
LOCATION:beckenham park\, BR3 1SY\, United Kingdom
CATEGORIES:Cross Country,Juniors,Seniors
ATTACH;FMTTYPE=image/png:https://hollandsportsac.org.uk/wp-content/uploads/2025/08/Untitled.png
END:VEVENT
END:VCALENDAR